BEGIN:VCALENDAR
PRODID:RAVE.CA V17.0
X-WR-CALNAME:FRIENDSHIP 2 au complexeMeduse
X-ORIGINAL-URL:https://www.rave.ca/event/4230/
VERSION:2.0
CALSCALE:GREGORIAN
METHOD:PUBLISH
BEGIN:VEVENT
DTSTAMP:20060412T000000Z
LAST-MODIFIED:20060412T000000Z
CREATED:20040123T000000Z
SEQUENCE:4230
ORGANIZER:Unknown
DTSTART:20040123T000000Z
DTEND:20040123T000000Z
UID:event_4230@rave.ca
SUMMARY:FRIENDSHIP 2 au complexeMeduse
LOCATION:Unknown
URL:https://www.rave.ca/event/4230/
DESCRIPTION:Ça se déroulera au complexe méduse!!  Pour eux et celles qui ne connaissent pas\, c'est une très belle salle multimédia très réputée!!  Un endroit de luxe pour une nuit magnifique! :D\nVenez célébrer l'amitié!\n\nHeadLiner de la nuit: \nPBS (Hard-Trance)\, Londre\, UK  \n\nCe duo de Compositeurs et Platinistes s’est issé cette année parmis les incontournables du hard trance en Angleterre. Fort de plusieurs parutions et remixes remarqués (notamment chaz Tidy…)\, j’suis certains qu’ils vont faire lever l’énergie et vous emmener dans une trance de danse incroyable… Aller jeter une oreille à \nwww.phatteblokeandslim.co.uk .\n\nHARD ROOM\, AREA 1 \n\n10h-11h – Eldamry et N_Druw (Hard-trance) \n\n11h- 12h15 – Sin et 7 Ways (trance-prog) \n\n12h15- 1h – UHF (psy-tech-ind) \n\n1h à 2h – Psynesh (isratrance) \n\n2h à 3h – Shango et Kynoxe (Isratrance-Buttrock) \n\n3h à 4h30 - PBS (Hard-Trance)\, Londre\, UK (Hard-trance) \n\n4h30 à 5h30 – Merku et Volkano (Gabber) \n\n5h30 à 6h30 – Cham et Franko da Wra (Trance NRJ) \n\n6h30 à 7h30 – Afroplug et Cranium (German-trance-Spanish-core) \n\n7h30 à 8h30 – FULL SEX THREESOME: Cyre\, Néo et Pymo  (Happy-hard nudism core) \n\n\nÉLÉCTRO ROOM\, Area 2 \n\n10h- 11h30- Timewave et Narayana (Psy-wave) \n\n11h30- 12h30- Spectro (Soft Break) \n\n12h30- 1h45- Dubloop (Drum&triphop&Fucky-minimal-groovy-Tech-fuckin-good-beat) \n\n1h45- 3h00- Cyre et Azatoth (Drum & Bass) \n\n3h00- 4h30- Matt F & Cotton (Électro-break and more...) \n\n4h30- 6h- Maxxx et Pat Davis (Électro-clash) \n\n6h- 7h15- Mindmover et Strafe (Électro-minimal-tech) \n\n7h- 8h30 – Kartasis et Forms & Fonction (Soft Drum & break)
CLASS:PUBLIC
CATEGORIES:
STATUS:CONFIRMED
PARTSTAT:ACCEPTED
END:VEVENT
END:VCALENDAR
