BEGIN:VCALENDAR
PRODID:RAVE.CA V17.0
X-WR-CALNAME:Big Dub Mountain! : )
X-ORIGINAL-URL:https://www.rave.ca/event/42211/
VERSION:2.0
CALSCALE:GREGORIAN
METHOD:PUBLISH
BEGIN:VEVENT
DTSTAMP:20101001T160936Z
LAST-MODIFIED:20101001T160936Z
CREATED:20101001T160642Z
SEQUENCE:42211
ORGANIZER:Unknown
DTSTART:20101001T210000Z
DTEND:20101003T210000Z
UID:event_42211@rave.ca
SUMMARY:Big Dub Mountain! : )
LOCATION:Unknown
URL:https://www.rave.ca/event/42211/
DESCRIPTION:WICKED SWAY\nDJ ZRIP\nHUBSMOKE\nSTEVE BUGBEE\nDYNOBYT\nSATRONICA\nGLADKILL\nKYNG OF THIEVES\nGRIME SYNDICATE\nJAY SHOK\nCAT DOG\nSABERTOOTH\nNOBY\n\\\n\n++++
CLASS:PUBLIC
CATEGORIES:
STATUS:CONFIRMED
PARTSTAT:ACCEPTED
END:VEVENT
END:VCALENDAR
