BEGIN:VCALENDAR
PRODID:RAVE.CA V17.0
X-WR-CALNAME:Funky Party
X-ORIGINAL-URL:https://www.rave.ca/event/42202/
VERSION:2.0
CALSCALE:GREGORIAN
METHOD:PUBLISH
BEGIN:VEVENT
DTSTAMP:20101007T184343Z
LAST-MODIFIED:20101007T184343Z
CREATED:20100929T101316Z
SEQUENCE:42202
ORGANIZER:MISSWEB
DTSTART:20101001T020000Z
DTEND:20101001T080000Z
UID:event_42202@rave.ca
SUMMARY:Funky Party
LOCATION:L'Eclipse Afterclub
URL:https://www.rave.ca/event/42202/
DESCRIPTION:Ce Vendredi 1er Octobre L'Exode Afterhours De Sherbrooke Vous Invites à Son "Funky Party" \n\nDj CaddyShack Au Contrôle Musicale Avec Le Meilleur Du Funky Électro & Techno...\n\nL'Exode Est Maintenant Dans Une Nouvelle Salle\, Nouvelle Déco\, Nouvelle Ambiance!!!
CLASS:PUBLIC
CATEGORIES:
STATUS:CONFIRMED
PARTSTAT:ACCEPTED
END:VEVENT
END:VCALENDAR
