BEGIN:VCALENDAR
PRODID:RAVE.CA V17.0
X-WR-CALNAME:Euphoria 11
X-ORIGINAL-URL:https://www.rave.ca/event/42201/
VERSION:2.0
CALSCALE:GREGORIAN
METHOD:PUBLISH
BEGIN:VEVENT
DTSTAMP:20101109T121816Z
LAST-MODIFIED:20101109T121816Z
CREATED:20100929T094936Z
SEQUENCE:42201
ORGANIZER:Synergy Canada
DTSTART:20101113T190000Z
DTEND:20101114T030000Z
UID:event_42201@rave.ca
SUMMARY:Euphoria 11
LOCATION:Mavericks
URL:https://www.rave.ca/event/42201/
DESCRIPTION:Synergy Proudly Presents:\n\nEUPHORIA 11\nSynergy 11 Year Anniversary\nNov 13 2010 \n7pm - 3am \n\nIt's that time of the year again where Synergy puts on one of its legendary birthday parties! This year is no exception. In fact\, we're going all out!  We listened to your requests for some more diversity in music styles so det ready for 2 rooms of mental madness! BOTH 16+!  On top of that\, we have a lineup of some truly amazing talent including our very very special guest headliners.  If you enjoyed Wonderland and the past Euphoria\, you will LOVE this one. Everyone agrees\, the Euphoria parties in a class of there own...come find out why!\n\nNow\, without further delay....\n\n================================\nROOM 1:  Trance\, Hardcore\, Hardstyle\, Industrial\n================================\n\nRODI STYLE - *UK* - (Tidy Trax / Kung Fu Wax / Slinky.fm / Traktor / www.djrodistyle.com) - Hard Trance\, Hard House\, Turntablism\n\nEasily one of the most technical hard dance DJ’s in the world and a member of the world famous Tidy Trax record label\, Rodi Style has firmly established himself as an artist like no other.  He is an award winning DJ (Best Newcomer - Hard Dance Awards 2008)\, a producer whose music is supported by all the heavyweights including multiple plays on BBC Radio1\, a label owner (Kung Fu Wax) managing high quality hard dance and a radio show (Sushi Fresh Beats) host on one of the largest online radio stations in the world (slinky.fm).  In conjunction with Native Instrument’s Taktor Pro\, Rodi Style’s setup includes 3 custom mapped midi controllers running 4 virtual decks alongside another 2 additional CDJs and EFX1000 allowing Rodi to manipulate\, warp and edit live music to create unique performances you won’t find elsewhere!\n\nCheck out his website www.djrodistyle.com and his all his youtube videos.\n\nDef. check these out!!\nhttp://www.youtube.com/watch?v=SG3yJEklmC4\nhttp://www.youtube.com/rodistyle#p/u/3/Bmc2eHfUzgo\nhttp://www.youtube.com/rodistyle#p/u/5/sfUPEO7tf1A\n(Especially at 1:45 when he starts scratching!!!!)\n\nCheck out his full bio\, song clips and mixes on http://www.euphoriarave.com\n\nhttp://www.facebook.com/#!/pages/Rodi-Style/8444579017?ref=ts\n\n--------------------------------------------------------------------------------------\n\nERIC D  (JE  Productions) - Saskatoon - Hard Trace / Hardstyle \n\nHis excellent track selection and skill with mixing driving bass lines and anthem synths of hardstyle\, hard trance\, pumpin’ electro house\, with the occasional whomp of dubstep and bassline/speedgarage has been quickly grabbing the attention of a wide audience. With years of experience in sound and lighting\, he squeezes every last drop of power and intensity from every sound system he plays on. Eric plays on plays at many\, if not most of the major events in Saskatoon. This is his first time out East so get ready for some insane flatland beats.\n\nhttp://www.jepro.ca/\nhttp://www.facebook.com/DJ.Eric.D\n\n--------------------------------------------------------------------------------------\n\nTamerax  (Synergy\, Blizzard Tracks\, RaveCanada.Net\, Tamerax.Com) Sherbrooke - Hardcore / Freeform / HAF\n\nAs one of the founding member of Synergy\, Tamerax is known for his energetic stage presence\, amazing track selection and smooth mixing skills which have made him a favorite in Ottawa. After the great reaction from his set at Wonderland\, he's decided to do another full on freeform and trancecore set which will be the proving ground for several unreleased original tracks. Come see why Tamerax has been voted amongst Ottawa favorites DJs for several times over the years.\n\nhttp://www.tamerax.com\nhttp://www.facebook.com/DJTamerax\n\n--------------------------------------------------------------------------------------\nFeaturing a some of the best Ottawa local acts:\n--------------------------------------------------------------------------------------\n\nTampered DNA  (www.DI.fm\, Project D\, Jade Buddha\, RaveCanada.Net) -  Psy Trance\n--------------------------------\nEMM ( Synergy) -  Trance\n--------------------------------\nType-Zero (Zerotrance) -  Trance *LIVE PA*\n--------------------------------\nTha Pink Mutha Fucka (Shocker Productions\, Hooker Fight Productions\, H.T.R.B.) -   Hardcore\n-------------------------------\nDJ Reverie (Electroslave) -  Industrial / EBM\n\n\nFULL BIOS AND MIXES WILL BE AVAILABLE ON THE WEBSITE\n\n\n================================\nROOM 2:  Dubstep\, Breaks\, Drum and Bass\n================================\n\nConstruct  (SUB.FM / Wickedbad.net / High on Beats) - Montreal - Dubstep\n\nA bricklayer in the Canadian Bass Music scene\, Construct is the founder of the popular J’aime Le Dubstep mix series\, the BreakBeat Elite crew and was responsible for the very popular CKDU 88.1FM (ckdu.ca) radio show Broken Science. His resume of artists that he’s shared a stage with reads like a who’s who of International Producers such as Starkey\, Borgore\, Emalkay\, Datsik\, Excision\, ill.Gates\, Luke Envoy\, Dj Lord\, 6Blocc\, 0=0\, RSD\, DZ\, Mark Instinct\, and XI just to name a few. With JLD drawing in international recognition and tour dates popping up Construct is a definitive source of cutting edge Bass Music that pleases the booty shakers and the serious heads every time he blows up a party.\n\nConstruct currently releases a weekly J’aime Le Dubstep podcast on iTunes & Wickedbad.net. Teamed up with Vilify\, he plays on JUNGLETRAIN.net every Monday 7-9pm EST\, SUB.FM every Friday 9-11pm EST and their weekly event Bass Drive Wednesdays at The Belmont\, a staple in the Montreal Dubstep scene\n\n--------------------------------------------------------------------------------------\nFeaturing a some of the best Ottawa local acts:\n--------------------------------------------------------------------------------------\n\nJustin Case (Furious Records\, UASC) vs. Presha (UASC) - Breaks Battle\n--------------------------------\nSarcastro (Bassdrop.ca\, Soulselecta\,  Sounds CRMNL) - Drum And Bass\n--------------------------------\nEcho Swift (Big Shovel Sound Crew) - Drum and Bass\n--------------------------------\nDubLDrop (Capital Bass Culture\, Basslaced\, bassdrop.ca) - Dubstep\n--------------------------------\nTheNinji (Project D) - Breaks\n--------------------------------\nIDE - (School of Bass) - Drum and Bass\n--------------------------------\nMister Mystic - Drum and Bass\n\nFULL BIOS AND MIXES WILL BE AVAILABLE ON THE WEBSITE\n\n============================================\nFEATURES\n============================================\n\n- 17 DJs and Live Acts!!!\n- 8 Hours of Banging Party Music!\n- 2 Rooms both 16+ with 19+ areas\n- A Safe Party Environment\n- Amazing Themed Deco\n- Clear and Crisp Sound\n- Fantastic Lights\n- Live Big Screen Visuals \n- RaveCanada.Net Booth with T-Shirts and Glowsticks\n- Free mix cds\n- Safe Party Info Table\n- The One-of-Kind Synergy Party Vibe\n\n============================================\nPARTY INFO\n============================================\n\nTIME:\n7PM till 3AM\n\nAGE:\nThis is a 16+ event that will have a 19+ area.\nEVERYONE MUST BRING PHOTO ID WITH PROOF OF AGE ON IT!\nNo ID = No Entry\n\nTICKETS:\n$20 and will be available at NORML Clothing (184 Rideau St).\nPrice will be higher at the door.\n\nOut of town people with proof can get $20 tickets at the door.\n\nWe are only selling 300 regular tickets for this event. Buy early as this event will SELL OUT!\n\nVIP TICKETS (VERY LIMITED QUANTITY):\nVIP Package includes:\n-Priority Entrance (Skip the line. No waiting outside.)\n-Backstage Access\n-Exclusive Euphoria 11 Mix CD pack  \n-2 Free Glowsticks\n\nVIP Tickets are $35 and will be available in EXTREMELY limited quantity. \n\nVENUE:\nThe venue is Mavericks (221 Rideau St).\n\nRAVECANADA.NET FUNDRAISER TABLE:\nRCN will once again be setup at this event selling our T-Shirts for $20 as well as a selection of Glowsticks. We will also be accepting any donations you wish to make towards the operating costs for your scene site. Any amount\, big or small is appreciated.\n\n===================================\nIMPORTANT NOTE:  GET PROPER PHOTO ID!\n\nALL VENUES ARE NOW BECOMING MORE STRICT ABOUT ID AFTER THE RECENT AMOUNT OF BAD PRESS CONCERNING THE RAVE SCENE. THIS IS OUT OF THE PROMOTERS HANDS NOW.\n\nNow would be a really good time to get your passport/new healthcare card/drivers license/LCBO Age of Majority Card/etc. \n\nPhotocopies of birth certificates and passports will not be accepted anymore.\n\nPlease do not message me about what ID will work as it is not my descion but the venues. I will be posting a list of what is acceptable as soon as I get it from the venue owners.\n===================================\n\nPlease invite all your friends to this event listing! \n\nThe new website http://www.euphoriaraves.com will be up next week and will have TONS of info\, mixes\, music and video as well as complete artist bios.\n\nAlso check back often as we will be giving away a few tickets over the next few weeks to lucky people :)\n\nFACEBOOK LINK: http://www.facebook.com/?ref=logo#!/event.php?eid=118535264868277\n\nNote: Not to be confused with the Euphoria after hours club in Gat.  We're not associated with them.
CLASS:PUBLIC
CATEGORIES:
STATUS:CONFIRMED
PARTSTAT:ACCEPTED
END:VEVENT
END:VCALENDAR
