BEGIN:VCALENDAR
PRODID:RAVE.CA V17.0
X-WR-CALNAME:La Conspiration Badass À Québec!
X-ORIGINAL-URL:https://www.rave.ca/event/42197/
VERSION:2.0
CALSCALE:GREGORIAN
METHOD:PUBLISH
BEGIN:VEVENT
DTSTAMP:20100926T182427Z
LAST-MODIFIED:20100926T182427Z
CREATED:20100926T181342Z
SEQUENCE:42197
ORGANIZER:Unknown
DTSTART:20100925T210000Z
DTEND:20100925T210000Z
UID:event_42197@rave.ca
SUMMARY:La Conspiration Badass À Québec!
LOCATION:Bar Octobre
URL:https://www.rave.ca/event/42197/
DESCRIPTION:Une nouvelle soirée Badass\, grâce à la collaboration du "lab:neo" et ses expériences audiorythmiques...\n\n[]===[''''|25''''|S'''|E''''|P''''|'T'''])>--- 2010\n\nau Bar Octobre\n359 Rue Saint-Joseph Est\n(sous la Piazzetta\, devant la bibiothèque)\n\n:: DES DJs SANS SCRUPULES! ::\n\nCytotoxik > http://www.djcytotoxik.com/\nIszo > http://www.iszoloscope.net/\n\n:: LA MUSIQUE QU'ILS ESSAIENT DE VOUS CACHER! ::\n\nHard Electronics\nRythmic Noise\nHarsh Industrial\nHard Tech\nIDM / Dark Ambient\n\n:: MÊME DES COLLABOS SANS REMORDS ::\n\nDJ Mister Hyde\nVJ MissT\n\nEntrée : 5$ (inclut un rabais de 2$ sur votre première pinte de Boréale!)
CLASS:PUBLIC
CATEGORIES:
STATUS:CONFIRMED
PARTSTAT:ACCEPTED
END:VEVENT
END:VCALENDAR
