BEGIN:VCALENDAR
PRODID:RAVE.CA V17.0
X-WR-CALNAME:Earthdance 2010
X-ORIGINAL-URL:https://www.rave.ca/event/42181/
VERSION:2.0
CALSCALE:GREGORIAN
METHOD:PUBLISH
BEGIN:VEVENT
DTSTAMP:20100923T094724Z
LAST-MODIFIED:20100923T094724Z
CREATED:20100923T094537Z
SEQUENCE:42181
ORGANIZER:Unknown
DTSTART:20100918T160000Z
DTEND:20100918T160000Z
UID:event_42181@rave.ca
SUMMARY:Earthdance 2010
LOCATION:Unknown
URL:https://www.rave.ca/event/42181/
DESCRIPTION:
CLASS:PUBLIC
CATEGORIES:
STATUS:CONFIRMED
PARTSTAT:ACCEPTED
END:VEVENT
END:VCALENDAR
