BEGIN:VCALENDAR
PRODID:RAVE.CA V17.0
X-WR-CALNAME:Riva Starr, Madkids, Maudite MacHine, F.An, Djenless &amp; Slap
X-ORIGINAL-URL:https://www.rave.ca/event/42129/
VERSION:2.0
CALSCALE:GREGORIAN
METHOD:PUBLISH
BEGIN:VEVENT
DTSTAMP:20100918T172008Z
LAST-MODIFIED:20100918T172008Z
CREATED:20100918T171957Z
SEQUENCE:42129
ORGANIZER:Unknown
DTSTART:20100919T140000Z
DTEND:20100919T140000Z
UID:event_42129@rave.ca
SUMMARY:Riva Starr\, Madkids\, Maudite MacHine\, F.An\, Djenless & Slap
LOCATION:Parc Jean Drapeau
URL:https://www.rave.ca/event/42129/
DESCRIPTION:
CLASS:PUBLIC
CATEGORIES:
STATUS:CONFIRMED
PARTSTAT:ACCEPTED
END:VEVENT
END:VCALENDAR
