BEGIN:VCALENDAR
PRODID:RAVE.CA V17.0
X-WR-CALNAME:O C D J
X-ORIGINAL-URL:https://www.rave.ca/event/42046/
VERSION:2.0
CALSCALE:GREGORIAN
METHOD:PUBLISH
BEGIN:VEVENT
DTSTAMP:20100921T163018Z
LAST-MODIFIED:20100921T163018Z
CREATED:20100916T191845Z
SEQUENCE:42046
ORGANIZER:Deadna Productions
DTSTART:20100921T220000Z
DTEND:20100922T030000Z
UID:event_42046@rave.ca
SUMMARY:O C D J
LOCATION:Passeport\, Club
URL:https://www.rave.ca/event/42046/
DESCRIPTION:Alright! For OCDj this week\, Tuesday September 21st\, we're presenting a night of Hardtek vs. Hardtech !! 2 styles that are phonetically similar\, share a history\, and\, yet\, are different monsters! To help us dissect these beasts\, we've invited THE hardtechno Dj\, along with a couple of the winners from the Open Decks nights! Plus\, a special Industrial Techno guest in from Quebec City! :::\n\n--> Sarcastic !! (Level 4) {Hardtech}\n--> Axel Helios !! (Pertin_nce/Techment) {Hardtech}\n--> Erratique !! {Hardtek}\n--> Biotek !! (QC - Chromosome Syndicate) {Industrial Techno}\n--> Nā !! (Deadna) {Hardtech/Hardtek/Hardcore}\n\nOnly 4$ at the door! Coat-check included!\n@ Bar Le Passeport\, 2037 St. Denis (metro Berri-UQAM)\n\nDrink Specials:\n1 Pint of beer - 5$!\n2 Shots of hard - 6$!\n\nJump around\, drink up\, hang-out .. come on down!
CLASS:PUBLIC
CATEGORIES:
STATUS:CONFIRMED
PARTSTAT:ACCEPTED
END:VEVENT
END:VCALENDAR
