BEGIN:VCALENDAR
PRODID:RAVE.CA V17.0
X-WR-CALNAME:Black Dahlia Murder, Goatwhore, Arkaik, Paroxysm
X-ORIGINAL-URL:https://www.rave.ca/event/42030/
VERSION:2.0
CALSCALE:GREGORIAN
METHOD:PUBLISH
BEGIN:VEVENT
DTSTAMP:20101004T134504Z
LAST-MODIFIED:20101004T134504Z
CREATED:20100916T112219Z
SEQUENCE:42030
ORGANIZER:Unknown
DTSTART:20101004T180000Z
DTEND:20101004T230000Z
UID:event_42030@rave.ca
SUMMARY:Black Dahlia Murder\, Goatwhore\, Arkaik\, Paroxysm
LOCATION:Petit Campus
URL:https://www.rave.ca/event/42030/
DESCRIPTION:Metal show! a mixture of death/black/grind/thrash from all bands.\n\nThe Black Dahlia Murder (Detroit) - http://www.myspace.com/blackdahliamurder\nGoatwhore (New Orleans) - http://www.myspace.com/goatwhore\nArkaik (Californie) - http://www.myspace.com/arkaik\nParoxysm (Montréal) - http://www.myspace.com/paroxysmqc\n\nça va torcher en sale !!!
CLASS:PUBLIC
CATEGORIES:
STATUS:CONFIRMED
PARTSTAT:ACCEPTED
END:VEVENT
END:VCALENDAR
