BEGIN:VCALENDAR
PRODID:RAVE.CA V17.0
X-WR-CALNAME:Bass Mob&#039;s Cartel Thursdays Presents Trillbass!!!!
X-ORIGINAL-URL:https://www.rave.ca/event/42027/
VERSION:2.0
CALSCALE:GREGORIAN
METHOD:PUBLISH
BEGIN:VEVENT
DTSTAMP:20100914T171247Z
LAST-MODIFIED:20100914T171247Z
CREATED:20100914T150808Z
SEQUENCE:42027
ORGANIZER:Unknown
DTSTART:20100916T220000Z
DTEND:20100916T220000Z
UID:event_42027@rave.ca
SUMMARY:Bass Mob's Cartel Thursdays Presents Trillbass!!!!
LOCATION:Unknown
URL:https://www.rave.ca/event/42027/
DESCRIPTION:PAUL SWYTCH (ATLANTA) OF TRILLBASS RECORDS - DIIIIIIRTYSOUTH DUBSTEP\, WHAT!!\n\nwith Residents LAZERFACE (aufect recordings)\n\n& Dig.iT.aL (Living~Stone & Vipond) \n\n$6\n\nCLUB HOHM - 4445 ST. LAURENT\n\nFb event page\n\nhttp://www.facebook.com/event.php?eid=115474961839741&ref=ts
CLASS:PUBLIC
CATEGORIES:
STATUS:CONFIRMED
PARTSTAT:ACCEPTED
END:VEVENT
END:VCALENDAR
