BEGIN:VCALENDAR
PRODID:RAVE.CA V17.0
X-WR-CALNAME:As I Lay Dying With All That Remains, Unearth, Carnifex
X-ORIGINAL-URL:https://www.rave.ca/event/42023/
VERSION:2.0
CALSCALE:GREGORIAN
METHOD:PUBLISH
BEGIN:VEVENT
DTSTAMP:20100913T051721Z
LAST-MODIFIED:20100913T051721Z
CREATED:20100913T045822Z
SEQUENCE:42023
ORGANIZER:Unknown
DTSTART:20100927T183000Z
DTEND:20100927T230000Z
UID:event_42023@rave.ca
SUMMARY:As I Lay Dying With All That Remains\, Unearth\, Carnifex
LOCATION:Metropolis
URL:https://www.rave.ca/event/42023/
DESCRIPTION:
CLASS:PUBLIC
CATEGORIES:
STATUS:CONFIRMED
PARTSTAT:ACCEPTED
END:VEVENT
END:VCALENDAR
