BEGIN:VCALENDAR
PRODID:RAVE.CA V17.0
X-WR-CALNAME:Ko, Drum N Bass, Residents Tko
X-ORIGINAL-URL:https://www.rave.ca/event/42016/
VERSION:2.0
CALSCALE:GREGORIAN
METHOD:PUBLISH
BEGIN:VEVENT
DTSTAMP:20101106T171337Z
LAST-MODIFIED:20101106T171337Z
CREATED:20100910T201922Z
SEQUENCE:42016
ORGANIZER:Unknown
DTSTART:20101119T230000Z
DTEND:20101120T030000Z
UID:event_42016@rave.ca
SUMMARY:Ko\, Drum N Bass\, Residents Tko
LOCATION:Petit Campus
URL:https://www.rave.ca/event/42016/
DESCRIPTION:Beat Concierge & Shift Music présentent :\nKO RESIDENTS TKO\nvendredi le 19 novembre / Friday November 19\, 2010\n\nGeneric & Qubiq MC\nHuman/Function/Spearhead/Vampire \nhttp://myspace.com/generictm\n\nRCola\nRoyal Crown / JungleXpeditions / Wikkid \nhttp://soundcloud.com/djrcola\nhttp://www.junglex.ca/\n\nSubtone\nDSCI4/Explicit$/Triple vision\nhttp://www.myspace.com/subtone\nBeat Concierge & Shift Music présentent :\n\n\net VJ Kai\n\n+ invité dj Orphan / Dubmashine\n\nLa soirée dura à 23hrs à 3am \nStarts at 11:00pm\, ends at 3:00am\n\nau Petit Campus 57 Prince Arthur Est\nclique liens pour la carte /click link for Map\nhttp://bit.ly/cIJguK\n\nentrée : 5$
CLASS:PUBLIC
CATEGORIES:
STATUS:CONFIRMED
PARTSTAT:ACCEPTED
END:VEVENT
END:VCALENDAR
