BEGIN:VCALENDAR
PRODID:RAVE.CA V17.0
X-WR-CALNAME:Neon &amp; High Food Présentent : Vitalic, Teenage Bad Girl
X-ORIGINAL-URL:https://www.rave.ca/event/42000/
VERSION:2.0
CALSCALE:GREGORIAN
METHOD:PUBLISH
BEGIN:VEVENT
DTSTAMP:20100903T123745Z
LAST-MODIFIED:20100903T123745Z
CREATED:20100903T123222Z
SEQUENCE:42000
ORGANIZER:Unknown
DTSTART:20100923T220000Z
DTEND:20100924T030000Z
UID:event_42000@rave.ca
SUMMARY:Neon & High Food Présentent : Vitalic\, Teenage Bad Girl
LOCATION:L'Olympia
URL:https://www.rave.ca/event/42000/
DESCRIPTION:Porte ouvre à 9hr Pm\n\nVitalic + Teenage Bad Girl
CLASS:PUBLIC
CATEGORIES:
STATUS:CONFIRMED
PARTSTAT:ACCEPTED
END:VEVENT
END:VCALENDAR
