BEGIN:VCALENDAR
PRODID:RAVE.CA V17.0
X-WR-CALNAME:Tribal Night (Bar Lanjeu )
X-ORIGINAL-URL:https://www.rave.ca/event/41999/
VERSION:2.0
CALSCALE:GREGORIAN
METHOD:PUBLISH
BEGIN:VEVENT
DTSTAMP:20100902T174332Z
LAST-MODIFIED:20100902T174332Z
CREATED:20100902T174254Z
SEQUENCE:41999
ORGANIZER:Unknown
DTSTART:20100918T210000Z
DTEND:20100918T210000Z
UID:event_41999@rave.ca
SUMMARY:Tribal Night (Bar Lanjeu )
LOCATION:Unknown
URL:https://www.rave.ca/event/41999/
DESCRIPTION:DJ VYKTOR ZAA FEAT LALOSDRUMS  A TRIBAL NIGHT \n1400 ST JEAN BATISTA
CLASS:PUBLIC
CATEGORIES:
STATUS:CONFIRMED
PARTSTAT:ACCEPTED
END:VEVENT
END:VCALENDAR
