BEGIN:VCALENDAR
PRODID:RAVE.CA V17.0
X-WR-CALNAME:O C D J
X-ORIGINAL-URL:https://www.rave.ca/event/41996/
VERSION:2.0
CALSCALE:GREGORIAN
METHOD:PUBLISH
BEGIN:VEVENT
DTSTAMP:20100901T202848Z
LAST-MODIFIED:20100901T202848Z
CREATED:20100901T200148Z
SEQUENCE:41996
ORGANIZER:Deadna Productions
DTSTART:20100907T220000Z
DTEND:20100908T030000Z
UID:event_41996@rave.ca
SUMMARY:O C D J
LOCATION:Passeport\, Club
URL:https://www.rave.ca/event/41996/
DESCRIPTION:Welcome to the tetraphobic edition of OCDj ... On Tuesday September 7th\, we'll be welcoming some OCDj virgins -- a first-timer\, an old-timer\, and a hard-timer -- We'll be breakin' up the bass with some wicked Dubstep\, D'n'B\, and hard Breaks !! ::: \n\n--> Bliss !! {hard breaks}\n--> David Florida !! {d'n'b}\n--> Shao !! {hard dubstep}\n--> + resident: Nā ! {hardcore-breaky-shit}\n\nOnly 4$! @ Bar Le Passeport\, 2037 St. Denis (metro Berri-UQAM)\n\nDrinks specials:\n1 Pint of beer: 5$!\n2 Shots of hard: 6$!\n\nCome on down and break your brains\, rattle your minds\, shake your asses\, traumatise your liver ...
CLASS:PUBLIC
CATEGORIES:
STATUS:CONFIRMED
PARTSTAT:ACCEPTED
END:VEVENT
END:VCALENDAR
