BEGIN:VCALENDAR
PRODID:RAVE.CA V17.0
X-WR-CALNAME:Party Étudiant
X-ORIGINAL-URL:https://www.rave.ca/event/41991/
VERSION:2.0
CALSCALE:GREGORIAN
METHOD:PUBLISH
BEGIN:VEVENT
DTSTAMP:20100831T085553Z
LAST-MODIFIED:20100831T085553Z
CREATED:20100831T085451Z
SEQUENCE:41991
ORGANIZER:MISSWEB
DTSTART:20100917T020000Z
DTEND:20100917T080000Z
UID:event_41991@rave.ca
SUMMARY:Party Étudiant
LOCATION:L'Eclipse Afterclub
URL:https://www.rave.ca/event/41991/
DESCRIPTION:Ce Vendredi 17 Septembre.\n\nL'Exode Gâte Les Étudiants.\n\n5$ L'entrée Sous Présentation De Votre Carte Étudiante.\n...\nDj Mat Manson & Dj J-F Tessier Pour Vous Faire Danser Toute La Nuit!!!\n\nMissweb Photographe TAGZ Sur Place :)\n\nOn Vous Attend!
CLASS:PUBLIC
CATEGORIES:
STATUS:CONFIRMED
PARTSTAT:ACCEPTED
END:VEVENT
END:VCALENDAR
