BEGIN:VCALENDAR
PRODID:RAVE.CA V17.0
X-WR-CALNAME:Ntk Presents: Keygen Kaotic [Fr] Live!!! [Le Diable Au Corps]
X-ORIGINAL-URL:https://www.rave.ca/event/41984/
VERSION:2.0
CALSCALE:GREGORIAN
METHOD:PUBLISH
BEGIN:VEVENT
DTSTAMP:20101119T183152Z
LAST-MODIFIED:20101119T183152Z
CREATED:20100828T132405Z
SEQUENCE:41984
ORGANIZER:Neurotik Sound  System
DTSTART:20101120T220000Z
DTEND:20101121T080000Z
UID:event_41984@rave.ca
SUMMARY:Ntk Presents: Keygen Kaotic [Fr] Live!!! [Le Diable Au Corps]
LOCATION:Unknown
URL:https://www.rave.ca/event/41984/
DESCRIPTION:KEYGEN KAOTIC [FR] LIVE!\n\nDj\, liveset and producer since 1996\, Dj keygen plays a lot of different styles of electronic music\, from hardfloor to electro\, from drumnbass to techno. Active member of one of the firsts french sound systems\, he distilled his music in clubs and festivals all over europe.\n\nStyle of productions : Hardtribe\,\n\nFirst live set : 2002\n\nCurrent live set : MPC 1000\, boss vf-1\, mackie vlz 1402\, korg esx1\, yamaha rm1x \n\nhttp://www.myspace.com/keygenkaotic\nhttp://www.electrobooking.com/\nhttp://www.lediableaucorps.org/\nhttp://www.myspace.com/lediableaucorps\nhttp://www.facebook.com/pages/keygen-kaotic/368143279210?ref=ts
CLASS:PUBLIC
CATEGORIES:
STATUS:CONFIRMED
PARTSTAT:ACCEPTED
END:VEVENT
END:VCALENDAR
