BEGIN:VCALENDAR
PRODID:RAVE.CA V17.0
X-WR-CALNAME:Gris, Sombres Forêts, Falls Of Rauros, Thisquietarmy, Wendess
X-ORIGINAL-URL:https://www.rave.ca/event/41980/
VERSION:2.0
CALSCALE:GREGORIAN
METHOD:PUBLISH
BEGIN:VEVENT
DTSTAMP:20100827T093224Z
LAST-MODIFIED:20100827T093224Z
CREATED:20100826T213411Z
SEQUENCE:41980
ORGANIZER:Unknown
DTSTART:20100924T200000Z
DTEND:20100924T200000Z
UID:event_41980@rave.ca
SUMMARY:Gris\, Sombres Forêts\, Falls Of Rauros\, Thisquietarmy\, Wendess
LOCATION:Theater Plaza
URL:https://www.rave.ca/event/41980/
DESCRIPTION:soirée black métal mettant en vedette : Gris\, Sombres Forêts\, Falls Of Rauros\, Thisquietarmy\, Wendess\n\nBillets disponibles au Freeson (1477 Mont-Royal Est)\, au Profusion (1843 Ontario Est)\, au Labyrinthe (486\, Sainte-Catherine Ouest)\, au Soundcentral (4486 Coloniale) ou directement de Sepulchral Productions (info (at) sepulchralproductions (dot) com)
CLASS:PUBLIC
CATEGORIES:
STATUS:CONFIRMED
PARTSTAT:ACCEPTED
END:VEVENT
END:VCALENDAR
