BEGIN:VCALENDAR
PRODID:RAVE.CA V17.0
X-WR-CALNAME:Sick Of It All
X-ORIGINAL-URL:https://www.rave.ca/event/41979/
VERSION:2.0
CALSCALE:GREGORIAN
METHOD:PUBLISH
BEGIN:VEVENT
DTSTAMP:20100826T213300Z
LAST-MODIFIED:20100826T213300Z
CREATED:20100826T213124Z
SEQUENCE:41979
ORGANIZER:Unknown
DTSTART:20100919T193000Z
DTEND:20100919T235900Z
UID:event_41979@rave.ca
SUMMARY:Sick Of It All
LOCATION:Foufounes Electriques
URL:https://www.rave.ca/event/41979/
DESCRIPTION:hardcore punk band Sick Of It All
CLASS:PUBLIC
CATEGORIES:
STATUS:CONFIRMED
PARTSTAT:ACCEPTED
END:VEVENT
END:VCALENDAR
