BEGIN:VCALENDAR
PRODID:RAVE.CA V17.0
X-WR-CALNAME:Yakuzas Du Son : : Cinquième Opus
X-ORIGINAL-URL:https://www.rave.ca/event/41963/
VERSION:2.0
CALSCALE:GREGORIAN
METHOD:PUBLISH
BEGIN:VEVENT
DTSTAMP:20100824T222751Z
LAST-MODIFIED:20100824T222751Z
CREATED:20100824T222221Z
SEQUENCE:41963
ORGANIZER:64hz
DTSTART:20100919T220000Z
DTEND:20100920T030000Z
UID:event_41963@rave.ca
SUMMARY:Yakuzas Du Son : : Cinquième Opus
LOCATION:Blizzarts\, Bar
URL:https://www.rave.ca/event/41963/
DESCRIPTION:À venir... / To come...
CLASS:PUBLIC
CATEGORIES:
STATUS:CONFIRMED
PARTSTAT:ACCEPTED
END:VEVENT
END:VCALENDAR
