BEGIN:VCALENDAR
PRODID:RAVE.CA V17.0
X-WR-CALNAME:L&#039;invasion Des Zombies Harajuku
X-ORIGINAL-URL:https://www.rave.ca/event/41953/
VERSION:2.0
CALSCALE:GREGORIAN
METHOD:PUBLISH
BEGIN:VEVENT
DTSTAMP:20101003T012139Z
LAST-MODIFIED:20101003T012139Z
CREATED:20100822T004840Z
SEQUENCE:41953
ORGANIZER:Unknown
DTSTART:20101010T210000Z
DTEND:20101011T030000Z
UID:event_41953@rave.ca
SUMMARY:L'invasion Des Zombies Harajuku
LOCATION:Bar octobre\, 359 rue St-Joseph Est\, Québec
URL:https://www.rave.ca/event/41953/
DESCRIPTION:=====\n\n\nVENEZ TERMINER VOTRE CONGÉ DE L'ACTION DE GRÂCE\nDANS UNE ÉDITION SPÉCIALE DES SOIRÉES HARAJUKU QC \n\n\n\nL'INVASION DES ZOMBIES HARAJUKU !!!\n\n\nARTISTES INVITÉS :\n\nDJ CYRE \n(Montréal - datagramradio - Japanese hardcore)\n\n\nDJ LVX \n(montreal - Amp Nights - industriel)\n\n\nDJ NÂ \n(montreal - ocdj nights - hardcore)\n\n\nMISTER HYDE \n(Québec - Kanibalz - Japanese Hardcore)\n\n\nDJ BIOTEK\n(Québec - Chromosome syndicate - industriel)\n\n\nDJ FREAKTRONIK\n(Québec - Break & Electro)\n\n\nDJ MONOCHROME \n(Québec - minimal tek)\n\n\nDJ DISCOVERY\n(Québec - Japanese POP)\n\n\n\n\nPRIX : \n5 $ à la porte\n\n\nSALLE : \n\nBAR OCTOBRE\, 359 St-Joseph Est\, Québec.\n18+\n\n\n\n\nBOUTIQUE FANAMANGA SUR PLACE LORS DE LA SOIRÉE !!!\nhttp://www.fanamanga.com/\n\n\n\n\n\nÀ NE PAS MANQUER ÉGALEMENT CE WEEKEND LÀ\, dans le même Cartier :\n\nLA CONVENTION CAPE ET KIMONOS\nConvention d'Anime et comic books à l'Hôtel Pur\nhttp://www.capekimono.com/
CLASS:PUBLIC
CATEGORIES:
STATUS:CONFIRMED
PARTSTAT:ACCEPTED
END:VEVENT
END:VCALENDAR
