BEGIN:VCALENDAR
PRODID:RAVE.CA V17.0
X-WR-CALNAME:Neurotik Zombie Squad
X-ORIGINAL-URL:https://www.rave.ca/event/41944/
VERSION:2.0
CALSCALE:GREGORIAN
METHOD:PUBLISH
BEGIN:VEVENT
DTSTAMP:20101007T190517Z
LAST-MODIFIED:20101007T190517Z
CREATED:20100819T184024Z
SEQUENCE:41944
ORGANIZER:Neurotik Sound  System
DTSTART:20101030T220000Z
DTEND:20101031T030000Z
UID:event_41944@rave.ca
SUMMARY:Neurotik Zombie Squad
LOCATION:Savoy Du Métropolis
URL:https://www.rave.ca/event/41944/
DESCRIPTION:NTK Halloween party!!!Les Zombies débarquent et ils en ont apres vos cerveaux\, laissez les à la maison!! Apres l'énorme succès de l'an dernier\, on remet ca cette année au Savoy du Métropolis pour une soirée déguisée avec du gros beat pour vos neurones\, si vous avez le courage de les amener.....\n\nPlus d'info à venir...........!!
CLASS:PUBLIC
CATEGORIES:
STATUS:CONFIRMED
PARTSTAT:ACCEPTED
END:VEVENT
END:VCALENDAR
