BEGIN:VCALENDAR
PRODID:RAVE.CA V17.0
X-WR-CALNAME:O C D J -- Open Decks
X-ORIGINAL-URL:https://www.rave.ca/event/41734/
VERSION:2.0
CALSCALE:GREGORIAN
METHOD:PUBLISH
BEGIN:VEVENT
DTSTAMP:20100816T193304Z
LAST-MODIFIED:20100816T193304Z
CREATED:20100811T215020Z
SEQUENCE:41734
ORGANIZER:Deadna Productions
DTSTART:20100824T220000Z
DTEND:20100825T030000Z
UID:event_41734@rave.ca
SUMMARY:O C D J -- Open Decks
LOCATION:Passeport\, Club
URL:https://www.rave.ca/event/41734/
DESCRIPTION:OCDj is going for another Open Decks night! The last instalment was awesome\, so we're at it again! Same rules as last time .. here are the details :::\n\n--> OPEN DECKS!!\n\nThe concept: Sign-up is between 22:00 & 23:00. We have room for maximum 8 DJs\, playing 30 minute sets. First come first serve for time-slots. Participating DJs have to play HARD (and have to be professional enough not to break the equipment or ruin my needles).\n\nFirst 6 to sign up get a free drink!! My 2 favourite participants get a guaranteed & proper booking for OCDj in September or October!!\n\nAccepted styles: anything hard\, including --> Hardcore\, Breakcore\, Speedcore\, Gabber\, HHC\, hard/dark D'n'B\, hard/dark Psy\, Dubstep\, Skullstep\, Hard-Tek\, Hard-Techno\, Hard-Floor\, Industrial\, etc ...\n\nSo\, come out for your chance to play!\n\nAnyone showing up with music (CDs\, Records\, LapTop) by 23:00\, with intent to play\, get in for free! Even if the slots are all taken up!\n\nSpecial 2$ cover for everyone else!! (that's half the regular price! XD )\n@ Bar Le Passeport\, 2037 St. Denis (metro Berri-UQAM)\n\nDrinks Specials:\n1 pint of beer: 5$!\n2 shots of hard: 6$!\n\nPlay\, dance\, drink\, hang-out & have a good time ... =)
CLASS:PUBLIC
CATEGORIES:
STATUS:CONFIRMED
PARTSTAT:ACCEPTED
END:VEVENT
END:VCALENDAR
