BEGIN:VCALENDAR
PRODID:RAVE.CA V17.0
X-WR-CALNAME:Kanibalz Free Party 2.0
X-ORIGINAL-URL:https://www.rave.ca/event/41440/
VERSION:2.0
CALSCALE:GREGORIAN
METHOD:PUBLISH
BEGIN:VEVENT
DTSTAMP:20100731T202416Z
LAST-MODIFIED:20100731T202416Z
CREATED:20100719T213529Z
SEQUENCE:41440
ORGANIZER:Kanibalz
DTSTART:20100807T180000Z
DTEND:20100807T180000Z
UID:event_41440@rave.ca
SUMMARY:Kanibalz Free Party 2.0
LOCATION:Unknown
URL:https://www.rave.ca/event/41440/
DESCRIPTION:Dans la même veine que celui de la St-Jean\, voici le free party extérieur que nous vous avions promis. Une nuit démentielle où vous pourrez profiter de l'été en nature tout en dansant sur les sonorités extrêmes que vous appréciez tant!\n\n18h : BBQ + Beat Chill\n21h : Procyon Lotor (DnB)\n22h : Dub (UK Hardcore)\n23h : Arsenick (Hardstyle)\n00h : Merkurius vs Deadfunk vs Smartyz (Hardcore\, UK Hardcore\, Freeform)\n02h : Frank L (Hardstyle)\n03h : Mister Hyde (Hardcore)\n04h : Stokyo (UK Hardcore)\n05h : Pymo (Hardcore\, Terror)\n06h : Kanibalz Mega Tag Team!\n\nÀ 10 minutes du centre-ville\, lieu exact dévoilé 24h à l'avance.\nAccessible en voiture seulement\, stationnement à proximité.\n\nPrix : Gratis! (Donation volontaire suggérée : 5$)\n\nSur le BBQ seront grillés des hot-dogs qui vous seront offerts pour la modique somme de 1$. Nous aurons aussi des lightsticks et de l'eau pour ceux qui en manquent.\n\nIl y aura un site pour faire un feu mais aucun arbre ne doit être coupé\, vous pouvez ammener du bois ou en ramasser aux alentours.\n\nConsignes générales (pour pouvoir réutiliser le spot dans le futur) :\n\n- Évitez les bouteilles de verre le plus possible\n- Ramassez vos déchets et ne laissez rien derrière\n- Ne vous éloignez pas trop\, notre hélicoptère de recherche est au garage\n- Soyez responsable de vous même et de vos amis\n- HAVE FUN!\n\nhttp://www.kanibalz.com/\nhttp://www.facebook.com/kanibalzhardcore
CLASS:PUBLIC
CATEGORIES:
STATUS:CONFIRMED
PARTSTAT:ACCEPTED
END:VEVENT
END:VCALENDAR
