BEGIN:VCALENDAR
PRODID:RAVE.CA V17.0
X-WR-CALNAME:Music @ The Mountain
X-ORIGINAL-URL:https://www.rave.ca/event/41417/
VERSION:2.0
CALSCALE:GREGORIAN
METHOD:PUBLISH
BEGIN:VEVENT
DTSTAMP:20100712T013451Z
LAST-MODIFIED:20100712T013451Z
CREATED:20100712T013414Z
SEQUENCE:41417
ORGANIZER:Renegade Legion
DTSTART:20100711T140000Z
DTEND:20100711T140000Z
UID:event_41417@rave.ca
SUMMARY:Music @ The Mountain
LOCATION:Unknown
URL:https://www.rave.ca/event/41417/
DESCRIPTION:This sunday was awesome... Pics soon!
CLASS:PUBLIC
CATEGORIES:
STATUS:CONFIRMED
PARTSTAT:ACCEPTED
END:VEVENT
END:VCALENDAR
