BEGIN:VCALENDAR
PRODID:RAVE.CA V17.0
X-WR-CALNAME:Kamelot, Leaves Eyes, Blackgard
X-ORIGINAL-URL:https://www.rave.ca/event/41377/
VERSION:2.0
CALSCALE:GREGORIAN
METHOD:PUBLISH
BEGIN:VEVENT
DTSTAMP:20100628T211914Z
LAST-MODIFIED:20100628T211914Z
CREATED:20100628T074741Z
SEQUENCE:41377
ORGANIZER:Unknown
DTSTART:20100918T190000Z
DTEND:20100918T235900Z
UID:event_41377@rave.ca
SUMMARY:Kamelot\, Leaves Eyes\, Blackgard
LOCATION:Club Soda
URL:https://www.rave.ca/event/41377/
DESCRIPTION:po le temps...  si tu trouve qqch\, partage avec "Updates:	Click here to submit changes."
CLASS:PUBLIC
CATEGORIES:
STATUS:CONFIRMED
PARTSTAT:ACCEPTED
END:VEVENT
END:VCALENDAR
