BEGIN:VCALENDAR
PRODID:RAVE.CA V17.0
X-WR-CALNAME:Immolation, Vader, Abigail Williams, Lecherous Nocturne, Pathology
X-ORIGINAL-URL:https://www.rave.ca/event/41355/
VERSION:2.0
CALSCALE:GREGORIAN
METHOD:PUBLISH
BEGIN:VEVENT
DTSTAMP:20100628T211957Z
LAST-MODIFIED:20100628T211957Z
CREATED:20100623T183911Z
SEQUENCE:41355
ORGANIZER:Unknown
DTSTART:20101003T190000Z
DTEND:20101003T235900Z
UID:event_41355@rave.ca
SUMMARY:Immolation\, Vader\, Abigail Williams\, Lecherous Nocturne\, Pathology
LOCATION:Foufounes Electriques
URL:https://www.rave.ca/event/41355/
DESCRIPTION:Environ un an plus tard\, le retour attendu des maîtres du Death Metal : Vader !  En co-vedette\, aussi en Death Metal : Immolation.  Accompagnés de : Abigail Williams\, Lecherous Nocturne & Pathology.\n\nhttp://events.myspace.com/Event/5389780/Nort-American-Tour-2010\n\nJe devrais savoir les prix en début de semaine prochaine.
CLASS:PUBLIC
CATEGORIES:
STATUS:CONFIRMED
PARTSTAT:ACCEPTED
END:VEVENT
END:VCALENDAR
