BEGIN:VCALENDAR
PRODID:RAVE.CA V17.0
X-WR-CALNAME:Unknown Prod. Présente Utopie 3
X-ORIGINAL-URL:https://www.rave.ca/event/41340/
VERSION:2.0
CALSCALE:GREGORIAN
METHOD:PUBLISH
BEGIN:VEVENT
DTSTAMP:20110623T124344Z
LAST-MODIFIED:20110623T124344Z
CREATED:20100619T131219Z
SEQUENCE:41340
ORGANIZER:Unknown
DTSTART:20110630T090000Z
DTEND:20110701T031500Z
UID:event_41340@rave.ca
SUMMARY:Unknown Prod. Présente Utopie 3
LOCATION:Unknown
URL:https://www.rave.ca/event/41340/
DESCRIPTION:UTOPIE3 -  Techno Prog Dub-Step Electro Muzik \n\n MissTick - Spin Twist Rec\, FRANCE(Premier Dj set au Canada)\n\n Ygriega - Iono Music\n\n Kenematik - (Dub-Step set)\n\n J0 Galaxy - (ElectroSwing interlude)\n&\nDj Resident  Jowel McDff
CLASS:PUBLIC
CATEGORIES:
STATUS:CONFIRMED
PARTSTAT:ACCEPTED
END:VEVENT
END:VCALENDAR
