BEGIN:VCALENDAR
PRODID:RAVE.CA V17.0
X-WR-CALNAME:Session Syndromatique 011
X-ORIGINAL-URL:https://www.rave.ca/event/41235/
VERSION:2.0
CALSCALE:GREGORIAN
METHOD:PUBLISH
BEGIN:VEVENT
DTSTAMP:20100708T204231Z
LAST-MODIFIED:20100708T204231Z
CREATED:20100610T034247Z
SEQUENCE:41235
ORGANIZER:Unknown
DTSTART:20100619T220000Z
DTEND:20100620T030000Z
UID:event_41235@rave.ca
SUMMARY:Session Syndromatique 011
LOCATION:L'Inspecteur Épingle
URL:https://www.rave.ca/event/41235/
DESCRIPTION:syndroma is a collective comprising of artists\, djs and electronic music amateurs. the first 10 syndromatic sessions took place at the kashmir club\, quebec city between the months of january and december 2002. we are returning to montreal with the same aims\, to share and discover new music.\n\nhttp://syndroma.org/\n\nthis movement is undertaken with the collaboration of the guerilla campaign\n\nhttp://theguerillacampaign.com/\n\n##### deep and eclectic electronica to quality techno. #####\n\nour concept is to offer a wide musical diversity\, with an empthasis on the genres of quality techno\, house and minimal.
CLASS:PUBLIC
CATEGORIES:
STATUS:CONFIRMED
PARTSTAT:ACCEPTED
END:VEVENT
END:VCALENDAR
