BEGIN:VCALENDAR
PRODID:RAVE.CA V17.0
X-WR-CALNAME:Limouzine Magazine
X-ORIGINAL-URL:https://www.rave.ca/event/41008/
VERSION:2.0
CALSCALE:GREGORIAN
METHOD:PUBLISH
BEGIN:VEVENT
DTSTAMP:20111231T023546Z
LAST-MODIFIED:20111231T023546Z
CREATED:20100602T174501Z
SEQUENCE:41008
ORGANIZER:Level 4 Productions
DTSTART:20110204T220000Z
DTEND:20110205T070000Z
UID:event_41008@rave.ca
SUMMARY:Limouzine Magazine
LOCATION:Espace Des Arts
URL:https://www.rave.ca/event/41008/
DESCRIPTION:EPIC PROD in collaboration with PLANET BREAK\, LEVEL 4 \,BEAT DiSEASE and DRASTIK PRODUCTION\n\nPREZENT :\n\n****LIMOUZINE MAGAZINE****\n\nwith\n\nFRANKIE BONES ( NY\, L.A.)\nand\nMARTY MCFLY !!
CLASS:PUBLIC
CATEGORIES:
STATUS:CONFIRMED
PARTSTAT:ACCEPTED
END:VEVENT
END:VCALENDAR
