BEGIN:VCALENDAR
PRODID:RAVE.CA V17.0
X-WR-CALNAME:Quantum: Psyberpunk Strike-Back @ Passeport
X-ORIGINAL-URL:https://www.rave.ca/event/40926/
VERSION:2.0
CALSCALE:GREGORIAN
METHOD:PUBLISH
BEGIN:VEVENT
DTSTAMP:20100605T160614Z
LAST-MODIFIED:20100605T160614Z
CREATED:20100601T201541Z
SEQUENCE:40926
ORGANIZER:Pro.fête
DTSTART:20100613T210000Z
DTEND:20100613T210000Z
UID:event_40926@rave.ca
SUMMARY:Quantum: Psyberpunk Strike-Back @ Passeport
LOCATION:Unknown
URL:https://www.rave.ca/event/40926/
DESCRIPTION:
CLASS:PUBLIC
CATEGORIES:
STATUS:CONFIRMED
PARTSTAT:ACCEPTED
END:VEVENT
END:VCALENDAR
