BEGIN:VCALENDAR
PRODID:RAVE.CA V17.0
X-WR-CALNAME:La Danse Noire Vs. Re-Vamp - June Edition
X-ORIGINAL-URL:https://www.rave.ca/event/40912/
VERSION:2.0
CALSCALE:GREGORIAN
METHOD:PUBLISH
BEGIN:VEVENT
DTSTAMP:20100604T162320Z
LAST-MODIFIED:20100604T162320Z
CREATED:20100530T193851Z
SEQUENCE:40912
ORGANIZER:ElectroSlave
DTSTART:20100626T220000Z
DTEND:20100626T220000Z
UID:event_40912@rave.ca
SUMMARY:La Danse Noire Vs. Re-Vamp - June Edition
LOCATION:Swizzles
URL:https://www.rave.ca/event/40912/
DESCRIPTION:LA DANSE NOIRE\nLast Saturday of every month\n\nYour resident DJs:\nDJ REVERIE & DJ ZURGMA\n\nFeaturing from Re-Vamp:\nDJ MEGAALEX & DJ SORRY\n\nSpinning a mix of:\nGoth - Alt 80s - New Wave - Darkwave - Synthpop - EBM - Industrial\n\n@ Swizzles\, 246 Queen St\, Between Bank & Kent\nNo cover\, No dress code\, 19+ w/ ID\, 10 PM
CLASS:PUBLIC
CATEGORIES:
STATUS:CONFIRMED
PARTSTAT:ACCEPTED
END:VEVENT
END:VCALENDAR
