BEGIN:VCALENDAR
PRODID:RAVE.CA V17.0
X-WR-CALNAME:Overdose By Dubma$hine
X-ORIGINAL-URL:https://www.rave.ca/event/40783/
VERSION:2.0
CALSCALE:GREGORIAN
METHOD:PUBLISH
BEGIN:VEVENT
DTSTAMP:20100807T025342Z
LAST-MODIFIED:20100807T025342Z
CREATED:20100518T002407Z
SEQUENCE:40783
ORGANIZER:DubMa$hine
DTSTART:20100605T200000Z
DTEND:20100606T040000Z
UID:event_40783@rave.ca
SUMMARY:Overdose By Dubma$hine
LOCATION:Unknown
URL:https://www.rave.ca/event/40783/
DESCRIPTION:dubMa$hine next party!\nLOCATION revealed 24hrs. adv. HERE ON RAVE.CA june fifth June 5th JUNE5th!!!(2010)\n\n-=:Dj$z:=-\n\nMAYDAY\nCONSTRUCT\nDjC\nVan Der SPEK\nORPHAN\n\n-<B@nd$z>-\nThe Panic Switch\nTHE BEATLES\nStreet Kids on Acid\n\n10pre (contact evan or madison)\n15door\n\nMORE BA$$ THEN YOU CAN POSSIBLY IMAGINE\n\nMORE BA$$ THEN YOU CAN POSSIBLY IMAGINE\n\nMORE BA$$ THEN YOU CAN POSSIBLY IMAGINE
CLASS:PUBLIC
CATEGORIES:
STATUS:CONFIRMED
PARTSTAT:ACCEPTED
END:VEVENT
END:VCALENDAR
