BEGIN:VCALENDAR
PRODID:RAVE.CA V17.0
X-WR-CALNAME:Erb N Dub (Bad Monkey, Uk) @rum &amp; Ass Thursdays
X-ORIGINAL-URL:https://www.rave.ca/event/40782/
VERSION:2.0
CALSCALE:GREGORIAN
METHOD:PUBLISH
BEGIN:VEVENT
DTSTAMP:20100517T205738Z
LAST-MODIFIED:20100517T205738Z
CREATED:20100517T204859Z
SEQUENCE:40782
ORGANIZER:Unknown
DTSTART:20100603T220000Z
DTEND:20100604T030000Z
UID:event_40782@rave.ca
SUMMARY:Erb N Dub (Bad Monkey\, Uk) @rum & Ass Thursdays
LOCATION:Vinyl
URL:https://www.rave.ca/event/40782/
DESCRIPTION:Rum & Ass thursdays in association with Salades Soniques DnB BBQ\npresents thursday june 3rd:\n\nErb N Dub - Bad Monkey Rec\, UK - Jungle/Dubstep\n[ www.myspace.com ]\n[ www.discogs.com ]\n\nOne of the most exciting prospects currently receiving heightened attentionon the D&B scene is Producer/DJ/Drummer\, ErbnDuB also known as 'Drum Addict'. With a natural flare for live performance ‘erb N dub’ provides a DJ show that reflects just that... As a rising name following some key releases\, erb N' brings an innovative DJ style armed with the freshest tracks and scratch skills to match. Coming from an original Jazz/D&B drumming background ‘erb N dub’ often goes back to his roots as a Drummer...\nerb N dub has played many international dates including - America\, Canada\, Portugal\, Spain\, Italy\, Russia\, France and of course all over the UK. His fan base is growing stronger every day. He is starting a world tour currently that will bring him through Canada from june 3rd to the 6th\, and dropping in Montreal on june 3rd!\n\nDiscog releases:\nGangsta Salute - Alpha Records 8 Bit - Alpha Records Hear Dis - Junction 11 Running Man - Bezerk. What - Finn People. Annihilating Rhythm - Finn People. Attention – Finn People. Stop – Finn People. Benny Hill - DNB Source Pull Up - DNB Sourse Proposition - DNB Source Walk - Industry Standard Pump - Industry Standard Mental Health - Dreadnought Bass - Dreadnought erb N Weapons - Bleak House Records. Jungle Story (Feat Deebo) – Easy Records. New Era - Urban Takeover. Hold On (Foreign Beggars RMX) - Urbanism. Fight - Direct Recordings. Joy Ride - Direct Recordings. Move - Radical Beats. Blud Clott Sound - Radical Beats. Tiger Dub - Back 2 Basics. High From It - Back 2 Basics. Dracula - Back 2 Basics. Nightmare From Amen Street - Back 2 Basics. 90 Seconds - Finn People. My Dog - Finn People. Music 4 The Mindless - Virgin Records.\n\nalongside\;\nMcNaughty - http://www.rave.ca/en/search/McNaughty - Toronto\nRCola - Jungle Expedition - [ junglex.ca ] - wikkid rec - Royal Crown\, Montreal\nScott Efes - GHD - [ Epicacademy.com ] - [ McEfes.ca ] - Rum & Ass Thursdays\nRCA - Loves\, Lives & Spins DnB - \nhttp://www.rave.ca/en/search/RCA/\n\n\nTerrasse w/BBQ\nCover TBA\n\nVinyl Lounge\n2109 Bleury st.
CLASS:PUBLIC
CATEGORIES:
STATUS:CONFIRMED
PARTSTAT:ACCEPTED
END:VEVENT
END:VCALENDAR
