BEGIN:VCALENDAR
PRODID:RAVE.CA V17.0
X-WR-CALNAME:Bass Mob &amp; Dig.It.Al Presents Eskmo &amp; Sub Swara
X-ORIGINAL-URL:https://www.rave.ca/event/40147/
VERSION:2.0
CALSCALE:GREGORIAN
METHOD:PUBLISH
BEGIN:VEVENT
DTSTAMP:20100426T003733Z
LAST-MODIFIED:20100426T003733Z
CREATED:20100426T002634Z
SEQUENCE:40147
ORGANIZER:Unknown
DTSTART:20100514T220000Z
DTEND:20100515T030000Z
UID:event_40147@rave.ca
SUMMARY:Bass Mob & Dig.It.Al Presents Eskmo & Sub Swara
LOCATION:Le Pharaon 4119 st-laurent
URL:https://www.rave.ca/event/40147/
DESCRIPTION:Bass Mob & Dig iT aL Presents SUB SWARA & ESKMO!\n\nThis is the premier collaboration between Bass Mob & Dig iT aL. We thought if we're going to do it we might as well do it right!\n\nThus we present to you:\n\nSub Swara : http://www.subswara.com\n\nSub Swara hails from Brooklyn\, New York and plays music with a genre-bending bass weight that parallels the depth and diversity of its hometown. Consisting of Dhruva\, Dave (Sharmaji) and Haj\, with vocalist Juakali\, Sub Swara’s music centers on a wide array of influences\, from dub to dancehall to hip hop to punk rock to funk and global sounds. Meticulously crafted for both the dancefloor massive and the headspace\, Sub Swara’s music unites tribes by bridging gaps across all lines. The crew blends both electronic production and live instrumentation into its recordings and performances\, creating an intense\, human touch in its modern\, electronic sound.\n\nEskmo: http://eskmo.com/\n\nBrendan Angelides is a San Francisco based electronic music producer who records and performs live as Eskmo. His multi-genre compositions have been featured on influential labels like Warp Records and Planet Mu. While Angelides' tracks encompass a wide range of electronic styles\, he avoids classifications. Bleep.com described his tracks as "Masterfully produced... sophisticated\, post-Dilla hip-hop funk". His last single of 2009 entitled "Let Them Sing" on Mu was met with equal praise and described by sites like Boomkat as "[Putting] Eskmo on his own electronic plateau."\n\nWith Local Support From:\n\nMeta B : http://www.monkeydub.com/meta-b\n\n&\n\nDig iT aL (Living~Stone & Vipond Ultimate Showdown)\n\nhttp://www.myspace.com/livingstonesound\n\nhttp://www.myspace.com/samvipond\n\nVisuals By Simply Complicated\n\n$14 before 11:30 & $16 after\n(More Info & flier to come)
CLASS:PUBLIC
CATEGORIES:
STATUS:CONFIRMED
PARTSTAT:ACCEPTED
END:VEVENT
END:VCALENDAR
