BEGIN:VCALENDAR
PRODID:RAVE.CA V17.0
X-WR-CALNAME:Magik Mountain
X-ORIGINAL-URL:https://www.rave.ca/event/40146/
VERSION:2.0
CALSCALE:GREGORIAN
METHOD:PUBLISH
BEGIN:VEVENT
DTSTAMP:20100425T233931Z
LAST-MODIFIED:20100425T233931Z
CREATED:20100425T233718Z
SEQUENCE:40146
ORGANIZER:Renegade Legion
DTSTART:20100425T140000Z
DTEND:20100425T140000Z
UID:event_40146@rave.ca
SUMMARY:Magik Mountain
LOCATION:Mount Royal
URL:https://www.rave.ca/event/40146/
DESCRIPTION:
CLASS:PUBLIC
CATEGORIES:
STATUS:CONFIRMED
PARTSTAT:ACCEPTED
END:VEVENT
END:VCALENDAR
