BEGIN:VCALENDAR
PRODID:RAVE.CA V17.0
X-WR-CALNAME:Mort
X-ORIGINAL-URL:https://www.rave.ca/event/40143/
VERSION:2.0
CALSCALE:GREGORIAN
METHOD:PUBLISH
BEGIN:VEVENT
DTSTAMP:20101028T163759Z
LAST-MODIFIED:20101028T163759Z
CREATED:20100423T232204Z
SEQUENCE:40143
ORGANIZER:Kréotik eNt.
DTSTART:20101029T190000Z
DTEND:20101030T070000Z
UID:event_40143@rave.ca
SUMMARY:Mort
LOCATION:3810 rue Saint-Patrick
URL:https://www.rave.ca/event/40143/
DESCRIPTION:!!!HARDCORE & PSY KILL!!!\n\n\nElle s'en vient dans les environs de MOntrÉaL avec un des fucking HARDCORE HEROES le légendaire dj new yorkais\n OMAR SANTANA!!! \n\nCa va FESSER en criss en ce week-end d'HallowEEn!!!\n\nEndroit/venue: http://maps.google.ca/maps?q=3810+st-patrick+montreal&um=1&ie=UTF-8&hq=&hnear=3810+Rue+St-Patrick\,+Montr%C3%A9al\,+QC&gl=ca&ei=noqJTP26E8H6lwf39NXtDw&sa=X&oi=geocode_result&ct=title&resnum=1&ved=0CBYQ8gEwAA
CLASS:PUBLIC
CATEGORIES:
STATUS:CONFIRMED
PARTSTAT:ACCEPTED
END:VEVENT
END:VCALENDAR
