BEGIN:VCALENDAR
PRODID:RAVE.CA V17.0
X-WR-CALNAME:Rumbl
X-ORIGINAL-URL:https://www.rave.ca/event/40142/
VERSION:2.0
CALSCALE:GREGORIAN
METHOD:PUBLISH
BEGIN:VEVENT
DTSTAMP:20100423T230051Z
LAST-MODIFIED:20100423T230051Z
CREATED:20100423T223645Z
SEQUENCE:40142
ORGANIZER:Unknown
DTSTART:20100424T220000Z
DTEND:20100424T220000Z
UID:event_40142@rave.ca
SUMMARY:Rumbl
LOCATION:Pearl\, Club
URL:https://www.rave.ca/event/40142/
DESCRIPTION:Les Samedis Salades Soniques: Dubstep Edition\, presents: *RUMBL*\n______________________________________________________\n\nThis month we invite MAN OF ZION!*&%$#!!!!\n\nAbout Man of Zion:\nMetalleux d'origine je m'initie �  la musique electronik �  l'aube du 21 siècle. 3 ans plus tard je fais l'acquisition de 2 platines\, les débuts sont plutôt tribe mais très vite influencé par la noirceur du son\, l’électronique et tout son vaste domaine commence �  s'introduire dans des sets sont plutôt variés mais relativement dark et généralement assez graveleux !__! Toute proportion gardée.... Depuis 2004 \,\,\,déj�  quelques dates dans plusieurs lieux totalement différent \,\,festival (Noxious Art\,\,Sa c'se Joux au chato\,Electro Click...)\,\,bar (La crémerie& bar dans différent ville....)\,\,\,salle de concert (le cylindre...)\,\,\,session radio(radio 404...)\,\,\,Boite de nuit (éééh oui !!)\,\,\,free party (la y en a qqs unes !!!!)\,\,\,& autres skatt (Amsterdam.....)\,\,\,&anniv différents...... Depuis 2007\, début de quelques compositions personnels et collaboration international.... Rencontrer des gens et partager des moments musicaux\, artistique\, sportif\, festif..... ________________________________________________________________ Starting music by listening death/metal and other brutal stuff \,\,\,some repetition in a band\,\,\,\,after that i began to listen all kind of music especially all electronic music\,\,\, i bought a pair of MKII in 2002 and start mixing French tribe & all hard/techno style\,\,\,\,\,after digging a lot of style for mix ( able to play D&Bass\,Hardstep\,Breakcore\,Hardcore\,Ragga jungle\,BreakBeat\,Minimal\,Dubstep\,Bassline\,Garage\,Grime\,hip/hop\,Dub\,Ambiant...) by the way i played in so various type of scene : Festival (Noxious Art\,ElectroClik\,Sa ce Joux au Chato\,\,) Concert (Le Cylindre....) Bar/Pub (==)East of France) Free party ( Amsterdam skatt\,\,and so many in the east on massive sound system ) Radio session ( 404.org \, Radio Campus Besançon) and also in club in Franch comté\,\,!! 5 years of mixing session in different style of party with different people... since 2007 i ""try"" make some traxx in the same way of my mix\,\,different style jungle to dubstep.... also making collab with some good guys !!! The best is to come i hope ...!.!.!.\n\n\nhttp://soundcloud.com/manofzion\nhttp://www.myspace.com/manofzion25\n______________________________________________________\n\nwith residents:\nLe Kiff - EzBake/The Dregs\nDialect - Planete Break Records/EzBake\nLazerface - Aufect/Philth Kids\n\nCover: 5$\nClub Pearl\n2021 St-Denis
CLASS:PUBLIC
CATEGORIES:
STATUS:CONFIRMED
PARTSTAT:ACCEPTED
END:VEVENT
END:VCALENDAR
