BEGIN:VCALENDAR
PRODID:RAVE.CA V17.0
X-WR-CALNAME:Masked
X-ORIGINAL-URL:https://www.rave.ca/event/40040/
VERSION:2.0
CALSCALE:GREGORIAN
METHOD:PUBLISH
BEGIN:VEVENT
DTSTAMP:20100429T224710Z
LAST-MODIFIED:20100429T224710Z
CREATED:20100412T174751Z
SEQUENCE:40040
ORGANIZER:Mushy Tea Productions
DTSTART:20100605T210000Z
DTEND:20100606T020000Z
UID:event_40040@rave.ca
SUMMARY:Masked
LOCATION:Kent Street Legion
URL:https://www.rave.ca/event/40040/
DESCRIPTION:You've been invited to where the music is entrancing and your identity conceled.\n\n\n\nMasked is a masqueraded ball that is for new skool kids to veteran rave crew. You never know who is behind a mask... Come join us with the East coast's sickest mixologists who will brew the night's concoctions. Ranging from a stiff hard\, fast acting bass line to smooth\, body absorbing beats.\n\nGet drunk in the festivities and even get carried away for MASKS ARE A MUST so don't ruin the surprise !!!\n\nMushY Tea will be hosting 5 outta town DJs in 2 large\, ventilated rooms. Festivities will NOT be happening outdoors but there will be entertainment to amuse our guests to the MAX! Knowledgeable\, friendly staff will be nominating those with the most creative masks for our MushY Tea Fav Maskeree contest.\nPLUR in full effect. Fun is on maximum. The core is hard. The capacity is limited.\n\n\n\nHosted by... MC JESTER !!!\n\n\nMAIN ROOM:\n\nSAIYAN - Hardcore ~Toronto\n[Canadian Hardcore Collective.Krafty Radio]\n\nPSYKLONE - happy/hard/break/speed-core ~Toronto\n[Goodfellaz.Canadian Hardcore Collective]\n\nSMARTYZ - HHC ~Montreal\n[MTLhardcore.Kanibalz]\n\nMAtRiCks - Happy Hardcore ~Montreal\n[Project Mayhem]\n\nDJ³ - Euro/HHC ~Ottawa\n[MushY Tea.Project D]\n\n\n\nBOOM BASEMENT:\n\nSYSTEMBANGER - Fidget Haus/Electro ~Montreal\n[Electrik Zoo.Planet Break Records]\n\nSoulselecta Crew:\nGAMMA vs SAXON - Electro/Breaks/DnB/Jungle into PsyTrance ~Ottawa\n[Soulselecta.ca.Futurhythm.Konkrete Jungle]\n\nMister Mystic - D'n'b ~Ottawa\n[MushY Tea]\n\nEchko - Psytrance/Trance ~Ottawa\n[MushY Tea]\n\n\n\nGET YOUR TICKETS AT:\nNormL Clothing\n184 Rideau Street\, Ottawa\, ON K1N 5X6\n(613) 562-2043\n\nThe Comic Book Shoppe\n228 Bank St\, Ottawa\, ON\n\n-or-\nPayPal: mushyteaproducion@gmail.com\nMushY Tea staff and DeeJays playing will have tickets.\n\n10$ ADVANCE PRICE\n15$ AT THE DOOR\n~ 10$ NO-MASK FEE ~\n\n+16 . w/ 19+ drinking area\n- Licensed Area\n- Give-A-Ways\n- MushY Tea Fav Maskeree Contest\n- Outdoor Chill Area\n- ID REQUIRED\n- ROAR
CLASS:PUBLIC
CATEGORIES:
STATUS:CONFIRMED
PARTSTAT:ACCEPTED
END:VEVENT
END:VCALENDAR
