BEGIN:VCALENDAR
PRODID:RAVE.CA V17.0
X-WR-CALNAME:Resurrection 2: Rédemption
X-ORIGINAL-URL:https://www.rave.ca/event/40000/
VERSION:2.0
CALSCALE:GREGORIAN
METHOD:PUBLISH
BEGIN:VEVENT
DTSTAMP:20110805T220218Z
LAST-MODIFIED:20110805T220218Z
CREATED:20100404T214758Z
SEQUENCE:40000
ORGANIZER:Pinkore Music
DTSTART:20110909T210000Z
DTEND:20110910T080000Z
UID:event_40000@rave.ca
SUMMARY:Resurrection 2: Rédemption
LOCATION:24hrs d'avance
URL:https://www.rave.ca/event/40000/
DESCRIPTION:Dieu rachète l’homme de l’esclavage\, du mal et du péché afin de lui rendre sa liberté.\n\nNous l'homme rachète la liberté de l'homme afin de lui rendre son esclavage et ces pêchés!\n\nIl serait grand temps d'en finir avec tout ceci et de vivre en harmonie...En cette soirée de rédemption\, tous nous devrions faire une chose commune pour voir le commencement de l'évolution et aussi pour réclamer le pardon que nous devons acclamé!\n\nNous sommes tous pêcheur du mal dans notre vie\, mais ceci dit que c'est humain et oui c'est vrai...Alors pourquoi ne pas en cette super soirée demander pardon pour nos malheur et d'oublier tout sa pour mieux recommencer et surtout de pouvoir profiter de cette magnifique nuit...\n\nPartageons tous notre amoure à la vie\, à la musique et au gens qui nous entoure!\n\nVenez le plus de mondes possible pour danser avec un Line Up solide sur une soirée Old school et plein de belle chose en plus à découvrir.\n\n- Musique Dubstep et Hardcore\n- Kiosque amusant et autres à voir !!!\n\nManquez pas ça!!!
CLASS:PUBLIC
CATEGORIES:
STATUS:CONFIRMED
PARTSTAT:ACCEPTED
END:VEVENT
END:VCALENDAR
