BEGIN:VCALENDAR
PRODID:RAVE.CA V17.0
X-WR-CALNAME:La Danse Noire
X-ORIGINAL-URL:https://www.rave.ca/event/39667/
VERSION:2.0
CALSCALE:GREGORIAN
METHOD:PUBLISH
BEGIN:VEVENT
DTSTAMP:20100410T110825Z
LAST-MODIFIED:20100410T110825Z
CREATED:20100330T094739Z
SEQUENCE:39667
ORGANIZER:ElectroSlave
DTSTART:20100424T220000Z
DTEND:20100424T235900Z
UID:event_39667@rave.ca
SUMMARY:La Danse Noire
LOCATION:Swizzles
URL:https://www.rave.ca/event/39667/
DESCRIPTION:LA DANSE NOIRE\nLast Saturday of every month\n\nYour resident DJs:\nDJ REVERIE & DJ ZURGMA\n\nSpinning modern and classic:\nGOTH - ALT 80s - NEW WAVE - DARKWAVE - SYNTHPOP - EBM - INDUSTRIAL\n\n@ Swizzles\, 246 Queen St\, between Bank & Kent\n19+ w/ ID\, No cover\, No dress code\, 10 PM
CLASS:PUBLIC
CATEGORIES:
STATUS:CONFIRMED
PARTSTAT:ACCEPTED
END:VEVENT
END:VCALENDAR
