BEGIN:VCALENDAR
PRODID:RAVE.CA V17.0
X-WR-CALNAME:D.J. Electric Chris@&quot;Spacer Electronics Event 10&quot;
X-ORIGINAL-URL:https://www.rave.ca/event/39547/
VERSION:2.0
CALSCALE:GREGORIAN
METHOD:PUBLISH
BEGIN:VEVENT
DTSTAMP:20110918T063118Z
LAST-MODIFIED:20110918T063118Z
CREATED:20100319T090846Z
SEQUENCE:39547
ORGANIZER:Unknown
DTSTART:20100911T220000Z
DTEND:20100312T080000Z
UID:event_39547@rave.ca
SUMMARY:D.J. Electric Chris@"Spacer Electronics Event 10"
LOCATION:Unknown
URL:https://www.rave.ca/event/39547/
DESCRIPTION:Sat 11/09/2010\nCycle Music Management\nprasentiert:\n"Spacer Electronics Event 10"\nDee-Jays:\nElectric Chris\n(North Studio Records.Gr/Cycle Mgnt.De/Technoguide.De/Nature-One.De)\nMinimal/Acid Techno-Electro D.j. Set\nDin\n(Container-Records.De/Spacer-Club.De)\nMinimal/Electro-House D.j. Set\nZeit:22.00-08.00\nEintrit:10 Euronen\nSpacer-Club Hamburg.De
CLASS:PUBLIC
CATEGORIES:
STATUS:CONFIRMED
PARTSTAT:ACCEPTED
END:VEVENT
END:VCALENDAR
