BEGIN:VCALENDAR
PRODID:RAVE.CA V17.0
X-WR-CALNAME:D.J. Electric Chris@&quot;Spacer Electronics Event 09&quot;
X-ORIGINAL-URL:https://www.rave.ca/event/39544/
VERSION:2.0
CALSCALE:GREGORIAN
METHOD:PUBLISH
BEGIN:VEVENT
DTSTAMP:20110918T063427Z
LAST-MODIFIED:20110918T063427Z
CREATED:20100319T084544Z
SEQUENCE:39544
ORGANIZER:Unknown
DTSTART:20100912T230000Z
DTEND:20100913T070000Z
UID:event_39544@rave.ca
SUMMARY:D.J. Electric Chris@"Spacer Electronics Event 09"
LOCATION:Unknown
URL:https://www.rave.ca/event/39544/
DESCRIPTION:Sat 12/09/2009\nCycle Music Management\nprasentiert:\n"Spacer Electronics Event 09"\nDee-Jays:\nElectric Chris\n(North Studio Recs.Gr/Cycle Music Management.De)\nMinimal Techno/Electro D.j. Set\nDin\n(Container Recs.De/Spacer-Club.De)\nMinimal/Electro House D.j. Set\nZeit:23.00-07.00\nEintrit:10 Euronen\nSpacer-Club(Hamburg.De)
CLASS:PUBLIC
CATEGORIES:
STATUS:CONFIRMED
PARTSTAT:ACCEPTED
END:VEVENT
END:VCALENDAR
