BEGIN:VCALENDAR
PRODID:RAVE.CA V17.0
X-WR-CALNAME:Terrordome
X-ORIGINAL-URL:https://www.rave.ca/event/3809/
VERSION:2.0
CALSCALE:GREGORIAN
METHOD:PUBLISH
BEGIN:VEVENT
DTSTAMP:20070112T181448Z
LAST-MODIFIED:20070112T181448Z
CREATED:20040709T000000Z
SEQUENCE:3809
ORGANIZER:Kanibalz
DTSTART:20040813T000000Z
DTEND:20040813T000000Z
UID:event_3809@rave.ca
SUMMARY:Terrordome
LOCATION:Terminal\, Afterhours
URL:https://www.rave.ca/event/3809/
DESCRIPTION:Un autre événement du vendredi 13 approche à grands pas\, mais cette fois avec un concept différent. Le party Terrordome exploitera à fond l'ambiance qui doit régner en cette date macabre. Pour l'occasion\, Kanibalz a invité à Québec l'un des grands pionniers du hardcore: DJ Delirium. Ce dernier est reconnu à travers le monde pour ses compositions tant old style que newstyle qui ont forgées la face du hardcore. \n\nPour la première fois dans un évènement Kanibalz seront aussi présents Cranium et Sickness\, qui joueront respectivement Hardstyle et French Hardcore\, de quoi amorcer puis clôturer la soirée de façon fracassante. De plus\, la 2e salle sera quant à elle réservée aux sonorités Electro\, Breakbeat et Drum & Bass... \n\n\nhardcore.area :: \n\n0.00 CRANIUM [magma] \n1.30 VOLKANO [kanibalz] \n3.00 DELIRIUM [h2oh\, moh\, fix party\, megarave] new jersey \n4.30 MERKU [kanibalz] \n6.00 THOR [kanibalz\, center rec.] \n7.30 SICKNESS [agumon prod.] \n\n\nelectro.break.dnb.area :: \n\n1.00 THOR [center rec\, kanibalz] \n2.30 PAT DAVIS + MAXXX [beat concierge] \n4.30 COSMOS [old school\, syndroma] \n6.00 CYRE [old school\, syndroma] \n7.30 DEZ-1 [datagramme]
CLASS:PUBLIC
CATEGORIES:
STATUS:CONFIRMED
PARTSTAT:ACCEPTED
END:VEVENT
END:VCALENDAR
