BEGIN:VCALENDAR
PRODID:RAVE.CA V17.0
X-WR-CALNAME:Booty Breakin&#039;
X-ORIGINAL-URL:https://www.rave.ca/event/377/
VERSION:2.0
CALSCALE:GREGORIAN
METHOD:PUBLISH
BEGIN:VEVENT
DTSTAMP:20040521T000000Z
LAST-MODIFIED:20040521T000000Z
CREATED:20010314T010000Z
SEQUENCE:377
ORGANIZER:Unknown
DTSTART:20010314T010000Z
DTEND:20010314T010000Z
UID:event_377@rave.ca
SUMMARY:Booty Breakin'
LOCATION:Turbo
URL:https://www.rave.ca/event/377/
DESCRIPTION:9pm - 5am
CLASS:PUBLIC
CATEGORIES:
STATUS:CONFIRMED
PARTSTAT:ACCEPTED
END:VEVENT
END:VCALENDAR
