BEGIN:VCALENDAR
PRODID:RAVE.CA V17.0
X-WR-CALNAME:Boxing Dj @ Rose Anges
X-ORIGINAL-URL:https://www.rave.ca/event/37521/
VERSION:2.0
CALSCALE:GREGORIAN
METHOD:PUBLISH
BEGIN:VEVENT
DTSTAMP:20100119T193918Z
LAST-MODIFIED:20100119T193918Z
CREATED:20100119T193614Z
SEQUENCE:37521
ORGANIZER:Unknown
DTSTART:20091227T220000Z
DTEND:20091227T030000Z
UID:event_37521@rave.ca
SUMMARY:Boxing Dj @ Rose Anges
LOCATION:Unknown
URL:https://www.rave.ca/event/37521/
DESCRIPTION:Hot electro\, dirty musik!  Versus modes!
CLASS:PUBLIC
CATEGORIES:
STATUS:CONFIRMED
PARTSTAT:ACCEPTED
END:VEVENT
END:VCALENDAR
