BEGIN:VCALENDAR
PRODID:RAVE.CA V17.0
X-WR-CALNAME:New Years Eve @ Club Hype
X-ORIGINAL-URL:https://www.rave.ca/event/37520/
VERSION:2.0
CALSCALE:GREGORIAN
METHOD:PUBLISH
BEGIN:VEVENT
DTSTAMP:20100119T193441Z
LAST-MODIFIED:20100119T193441Z
CREATED:20100119T193301Z
SEQUENCE:37520
ORGANIZER:Unknown
DTSTART:20091231T230000Z
DTEND:20091231T230000Z
UID:event_37520@rave.ca
SUMMARY:New Years Eve @ Club Hype
LOCATION:Unknown
URL:https://www.rave.ca/event/37520/
DESCRIPTION:31 Décembre@ CLUB HYPE\nJeudi 31 Décembre 2009\n\nVenez célébrez le début de l'année 2010 et l'ouverture du nouveau Club Hype avec nous Jeudi le 31 décembre une équipe de plusieurs DJ polyvalent seront présent sur place ainsi que tout le staff du club\, le tout pour vous acceuillir dans une ambiance ultime et intime du temps des fêtes.\nLe concept Electro House du club apportera au party une vague de survoltage et vous emmenera au dela de vos attentes\, tout en assurant votre satisfaction Nous voulons vous présenter le nouvel Endroit à Montréal.\n\nBouteille de Vodka ou de Rhum \n40oz a 120$ avant 12:00am!\n\nVous allez danser du début à la fin\n\n\n★ Admission:\n► 10 $ par personnes\, payable à la porte seulement\, ceci est le party ou l'admission est fixé au plus bas prix en ville !\n\nPour plus d'informations : 514.781.5582\n\nl'adresse: 4119 Saint laurent\nENTRE: entre les rues Duluth et Rachel\nComment: prennez metro mont royal\, diriger vous vers saint laurent descendez vers le sud et un peu après Rachel vous verrez le club à votre gauche !\n-----------------------------------------------------------------------------------------------------------------------------------\n\nENGLISH SOON !
CLASS:PUBLIC
CATEGORIES:
STATUS:CONFIRMED
PARTSTAT:ACCEPTED
END:VEVENT
END:VCALENDAR
