BEGIN:VCALENDAR
PRODID:RAVE.CA V17.0
X-WR-CALNAME:The Session Feat. Dj Sarcastic
X-ORIGINAL-URL:https://www.rave.ca/event/37392/
VERSION:2.0
CALSCALE:GREGORIAN
METHOD:PUBLISH
BEGIN:VEVENT
DTSTAMP:20100305T100708Z
LAST-MODIFIED:20100305T100708Z
CREATED:20100116T131602Z
SEQUENCE:37392
ORGANIZER:The Session
DTSTART:20100309T220000Z
DTEND:20100310T030000Z
UID:event_37392@rave.ca
SUMMARY:The Session Feat. Dj Sarcastic
LOCATION:Blizzarts\, Bar
URL:https://www.rave.ca/event/37392/
DESCRIPTION:A MASSIVE thanks to everyone who came out for our first March event!! Definitely one of our best yet and we hope that you guys all enjoyed yourselves as much we did. Cheers to HOSTA! He ripped it!\n\nTUESDAY MARCH 9th\n\nSARCASTIC [http://www.level4productions.com/]\n--------------------------------------------------------\nWhen we called Sarcastic to invite him to play\, that weird thing happened where he picked up the phone to dial out at the same time\, resulting in confusion for the first 10 seconds or so of our conversation.. Our verdict? Him coming to play at The Session was meant to be.  Though mostly known for his forays in the world of Techno\, Sarcastic has a refined taste of the old school when it comes to Jungle/Drum and Bass. We used the word 'eclectic' when speaking with him over the phone which we immediately took back because we pretty much hate that word when describing DJs more than anything. He said he would play only on the condition that we not use that word when making our write up. \n\nThat being said\, this coming Tuesday we are all in for a real treat as one of our fave DJs in the city touches down with a broad\, varied\, wide-ranging\, multifarious\, all embracing Jungle/DNB DJ set.\n\n...And we assure you\, this will be anything but eclectic.\n\n\nWITH THE RESIDENT RUCKUS MAKERS\n---------------------------------------------\n\nCOREY K [http://www.myspace.com/coreyk]\nJ.DARE [http://www.jordandare.com]\nMAYDAY [http://www.djmayday.com]\n\n--------------------------------\n\n\n----------------\nTHE SESSION\n----------------\nJUNGLE/DRUM & BASS
CLASS:PUBLIC
CATEGORIES:
STATUS:CONFIRMED
PARTSTAT:ACCEPTED
END:VEVENT
END:VCALENDAR
