BEGIN:VCALENDAR
PRODID:RAVE.CA V17.0
X-WR-CALNAME:Quantum Ascension
X-ORIGINAL-URL:https://www.rave.ca/event/37203/
VERSION:2.0
CALSCALE:GREGORIAN
METHOD:PUBLISH
BEGIN:VEVENT
DTSTAMP:20100301T220943Z
LAST-MODIFIED:20100301T220943Z
CREATED:20100109T034514Z
SEQUENCE:37203
ORGANIZER:Pro.fête
DTSTART:20100209T210000Z
DTEND:20100209T030000Z
UID:event_37203@rave.ca
SUMMARY:Quantum Ascension
LOCATION:L'escalier ( 552 st-cath est)
URL:https://www.rave.ca/event/37203/
DESCRIPTION:THIS IS MY CHURCH\nITs whats HEALS MY HURTs\n\nVEner contribuer...un mardi soir...pour tout les décaller du cosmos \;)\n\nHé Hé des Petits Party Psy toute les semaines.\nNous pensons faire 3 heure de Full On \nPas d'intro ni de conclusion\, a fond du début a la fin \;)\n\nLA SCIENCE-FICTION  est la science du futur
CLASS:PUBLIC
CATEGORIES:
STATUS:CONFIRMED
PARTSTAT:ACCEPTED
END:VEVENT
END:VCALENDAR
