BEGIN:VCALENDAR
PRODID:RAVE.CA V17.0
X-WR-CALNAME:Yaz, Marco G, Preach
X-ORIGINAL-URL:https://www.rave.ca/event/3691/
VERSION:2.0
CALSCALE:GREGORIAN
METHOD:PUBLISH
BEGIN:VEVENT
DTSTAMP:20040628T000000Z
LAST-MODIFIED:20040628T000000Z
CREATED:20040628T000000Z
SEQUENCE:3691
ORGANIZER:Unknown
DTSTART:20021206T000000Z
DTEND:20021206T000000Z
UID:event_3691@rave.ca
SUMMARY:Yaz\, Marco G\, Preach
LOCATION:Aria\, Afterhours
URL:https://www.rave.ca/event/3691/
DESCRIPTION:
CLASS:PUBLIC
CATEGORIES:
STATUS:CONFIRMED
PARTSTAT:ACCEPTED
END:VEVENT
END:VCALENDAR
